BEGIN:VCALENDAR
VERSION:2.0
PRODID:-//Neuropoints Fejlesztő Központ - ECPv6.0.13.1//NONSGML v1.0//EN
CALSCALE:GREGORIAN
METHOD:PUBLISH
X-ORIGINAL-URL:https://neuropoints.hu
X-WR-CALDESC:Events for Neuropoints Fejlesztő Központ
REFRESH-INTERVAL;VALUE=DURATION:PT1H
X-Robots-Tag:noindex
X-PUBLISHED-TTL:PT1H
BEGIN:VTIMEZONE
TZID:UTC
BEGIN:STANDARD
TZOFFSETFROM:+0000
TZOFFSETTO:+0000
TZNAME:UTC
DTSTART:20240101T000000
END:STANDARD
END:VTIMEZONE
BEGIN:VEVENT
DTSTART;TZID=UTC:20240203T090000
DTEND;TZID=UTC:20240203T170000
DTSTAMP:20260423T102715
CREATED:20240110T160143Z
LAST-MODIFIED:20240110T160143Z
UID:15326-1706950800-1706979600@neuropoints.hu
SUMMARY:Workshop a szülői lét fény és árnyoldalairól
DESCRIPTION:Előadásaink alkalmával sokan jeleztétek\, hogy szívesen elmélyednétek az ott elhangzott témákban.\nElindítjuk tehát az ezekhez kapcsolódó Workshop sorozatunkat\, melynek első alkalma a szülői lét fény és árnyoldalait hivatott a jelentkezők aktív részvételével feldolgozni.\n\n\nEgyütt gondolkodunk saját élményeinken keresztül az alábbiakról:\n\n\nA férfi és nő egysége\nSzerepek harmóniája\nUtódok az egységben\nVégre egység\, de ismét kétség\nA nevelés körtánca\, “ki kit nevel”\nA motiválás és felelősség\nÉrzések és értékek a szülői szerepben\nHagyományok\, szokások\, előítéletek és a változás\n\n\nAz egész napos\, 8 fővel induló foglalkozás részvételi díja:\n22.000 Ft\n\n\nA workshop vezetője Molnár Andrea szupervízor.\nJelentkezés: szupervizio@neuropoints.hu vagy +3630 962 1174
URL:https://neuropoints.hu/esemeny/workshop-a-szuloi-let-feny-es-arnyoldalairol/
LOCATION:Neuropoints Fejlesztő Központ\, Tópart utca 9-11.\, Velence\, Fejér megye\, 2481\, Magyarország
CATEGORIES:fejlesztés,Interaktív,Saját élmény,Szülői lét,szülővé válás,Szupervízió,Tanulás,Tapasztalás,workshop
ATTACH;FMTTYPE=image/png:https://neuropoints.hu/wp-content/uploads/2024/01/Idopont-2024.-02.-03.-9-17-ora.png
END:VEVENT
END:VCALENDAR